BEGIN:VCALENDAR
VERSION:2.0
PRODID:-//Sine Labore Nihil - ECPv6.15.20//NONSGML v1.0//EN
CALSCALE:GREGORIAN
METHOD:PUBLISH
X-WR-CALNAME:Sine Labore Nihil
X-ORIGINAL-URL:https://www.slnleiden.com
X-WR-CALDESC:Evenementen voor Sine Labore Nihil
REFRESH-INTERVAL;VALUE=DURATION:PT1H
X-Robots-Tag:noindex
X-PUBLISHED-TTL:PT1H
BEGIN:VTIMEZONE
TZID:Europe/Amsterdam
BEGIN:DAYLIGHT
TZOFFSETFROM:+0100
TZOFFSETTO:+0200
TZNAME:CEST
DTSTART:20250330T010000
END:DAYLIGHT
BEGIN:STANDARD
TZOFFSETFROM:+0200
TZOFFSETTO:+0100
TZNAME:CET
DTSTART:20251026T010000
END:STANDARD
BEGIN:DAYLIGHT
TZOFFSETFROM:+0100
TZOFFSETTO:+0200
TZNAME:CEST
DTSTART:20260329T010000
END:DAYLIGHT
BEGIN:STANDARD
TZOFFSETFROM:+0200
TZOFFSETTO:+0100
TZNAME:CET
DTSTART:20261025T010000
END:STANDARD
BEGIN:DAYLIGHT
TZOFFSETFROM:+0100
TZOFFSETTO:+0200
TZNAME:CEST
DTSTART:20270328T010000
END:DAYLIGHT
BEGIN:STANDARD
TZOFFSETFROM:+0200
TZOFFSETTO:+0100
TZNAME:CET
DTSTART:20271031T010000
END:STANDARD
END:VTIMEZONE
BEGIN:VEVENT
DTSTART;TZID=Europe/Amsterdam:20260430T143000
DTEND;TZID=Europe/Amsterdam:20260430T170000
DTSTAMP:20260420T112141
CREATED:20260404T145020Z
LAST-MODIFIED:20260404T145020Z
UID:8359-1777559400-1777568400@www.slnleiden.com
SUMMARY:Kantoorbezoek CMS 2026
DESCRIPTION:Aanmeldformulier Kantoorbezoek CMS 2026\n                            Op donderdag 30 april 2026 brengt SLN samen met studievereniging ASAR een bezoek aan advocatenkantoor CMS. \nCMS is een internationaal fullservice kantoor met vele vestigingen wereldwijd en een groot arbeidsrecht team. \nTijdens dit kantoorbezoek krijg je een uniek kijkje in de praktijkgroep Employment & Pensions van CMS. Aansluitend is er de mogelijkheid om te netwerken tijdens de naborrel. \nEen interessante kans om inspiratie op te doen voor jouw toekomst en waardevolle connecties te leggen! \n							"*" geeft vereiste velden aan \n                        \n                        Naam*\n                            \n                            \n                                                    \n                                                    Voornaam\n                                                \n                            \n                            \n                                                    \n                                                    Achternaam\n                                                \n                            \n                        E-mailadres*\n                                \n                                    \n                                    E-mailadres invoeren\n                                \n                                \n                                    \n                                    E-mailadres bevestigen\n                                \n                                \n                            Telefoon*Upload hier je CV:*Toegestane bestandstypen: pdf\, Max. bestandsgrootte: 2 MB. Hierbij bevestig ik mijn aanmelding als SLN-lid voor het bovenstaande evenement. Ik ben mij ervan bewust dat de vereniging en het kantoor op mijn aanwezigheid rekenen en dat ik bij geen/een late afmelding het imago van de vereniging schaad.* Gelezen en akkoord
URL:https://www.slnleiden.com/activiteit/kantoorbezoek-cms-2026/
LOCATION:CMS\, Atrium\, Parnassusweg 737\, Amsterdam\, Noord-Holland\, 1077 DG
ORGANIZER;CN="Sine Labore Nihil":MAILTO:secretaris@slnleiden.com
END:VEVENT
BEGIN:VEVENT
DTSTART;TZID=Europe/Amsterdam:20260508T180000
DTEND;TZID=Europe/Amsterdam:20260508T180000
DTSTAMP:20260420T112141
CREATED:20260411T113704Z
LAST-MODIFIED:20260416T135803Z
UID:8409-1778263200-1778263200@www.slnleiden.com
SUMMARY:Masterafsluiting 2026
DESCRIPTION:Aanmeldformulier masterafsluiting 2026\n                            Op vrijdag 8 mei om 18:00 vindt de masterafsluiting plaats met de masterstudenten van SLN en de afdeling Sociaal recht. We beginnen met een gezamenlijk etentje\, bestaande uit twee gangen\, bij City Hall in Leiden. Na 20:00 is er ruimte om gezellig door te borrelen in een kroeg. We hopen jullie daar allemaal te zien om het studiejaar 2025-2026 samen af te sluiten! Meld je voor 1 mei aan 🙂 \n							"*" geeft vereiste velden aan \n                        \n                        Naam*\n                            \n                            \n                                                    \n                                                    Voornaam\n                                                \n                            \n                            \n                                                    \n                                                    Achternaam\n                                                \n                            \n                        E-mailadres*\n                                \n                                    \n                                    E-mailadres invoeren\n                                \n                                \n                                    \n                                    E-mailadres bevestigen\n                                \n                                \n                            Telefoon*Ernstige allergiën (i.v.m. kruisbesmetting in de keuken)Optioneel: beschrijf een memorabel moment van de master (bijv. bij colleges\, SLN-activiteiten)Ik ga akkoord met de eigen bijdrage van 5 euro* Overmaken naar NL 19 RABO 0339 9477 56 t.n.v. Sine Labore Nihil\, onder vermelding van 'Voornaam + achternaam + masterafsluiting'. Je aanmelding is pas valide na deze betaling.NB* Stuur op tijd een appje als je toch niet kan! Een no show wordt niet geapprecieerd. (SLN en het restaurant rekenen op jouw aanwezigheid).
URL:https://www.slnleiden.com/activiteit/masterafsluiting-2026/
LOCATION:Trattoria Italiana City Hall\, Stadhuisplein 3\, Leiden\, Zuid-Holland\, 2311EJ\, Netherlands
ORGANIZER;CN="Sine Labore Nihil":MAILTO:secretaris@slnleiden.com
END:VEVENT
END:VCALENDAR